BEGIN:VCALENDAR
VERSION:2.0
PRODID:-//Sabre//Sabre VObject 4.5.8//EN
CALSCALE:GREGORIAN
BEGIN:VEVENT
UID:sabre-vobject-aff8aeb4-c280-4e46-a5c7-f5a0dccd9c00
DTSTAMP:20260421T082108Z
SUMMARY:Pfarrgottesdienst
DESCRIPTION:https://ried.bistum-augsburg-portal.de/pfarrgottesdienst_id1744
 685
DTSTART;TZID=Europe/Berlin:20260503T100000
DURATION:PT30M
LOCATION:St. Walburga
END:VEVENT
END:VCALENDAR
