BEGIN:VCALENDAR
VERSION:2.0
PRODID:-//Sabre//Sabre VObject 4.5.8//EN
CALSCALE:GREGORIAN
BEGIN:VEVENT
UID:sabre-vobject-94e46b07-25e0-4962-82e6-4e3525141878
DTSTAMP:20260420T122852Z
SUMMARY:Rosenkranz
DESCRIPTION:https://ried.bistum-augsburg-portal.de/rosenkranz_id1690683
DTSTART;TZID=Europe/Berlin:20260416T080000
DURATION:PT30M
LOCATION:St. Walburga
END:VEVENT
END:VCALENDAR
